BEGIN:VCALENDAR
VERSION:2.0
PRODID:-//Friends of Darebin Parklands - ECPv6.15.17.1//NONSGML v1.0//EN
CALSCALE:GREGORIAN
METHOD:PUBLISH
X-WR-CALNAME:Friends of Darebin Parklands
X-ORIGINAL-URL:https://www.fdp.org.au
X-WR-CALDESC:Events for Friends of Darebin Parklands
REFRESH-INTERVAL;VALUE=DURATION:PT1H
X-Robots-Tag:noindex
X-PUBLISHED-TTL:PT1H
BEGIN:VTIMEZONE
TZID:Australia/Melbourne
BEGIN:STANDARD
TZOFFSETFROM:+1100
TZOFFSETTO:+1000
TZNAME:AEST
DTSTART:20230401T160000
END:STANDARD
BEGIN:DAYLIGHT
TZOFFSETFROM:+1000
TZOFFSETTO:+1100
TZNAME:AEDT
DTSTART:20230930T160000
END:DAYLIGHT
BEGIN:STANDARD
TZOFFSETFROM:+1100
TZOFFSETTO:+1000
TZNAME:AEST
DTSTART:20240406T160000
END:STANDARD
BEGIN:DAYLIGHT
TZOFFSETFROM:+1000
TZOFFSETTO:+1100
TZNAME:AEDT
DTSTART:20241005T160000
END:DAYLIGHT
BEGIN:STANDARD
TZOFFSETFROM:+1100
TZOFFSETTO:+1000
TZNAME:AEST
DTSTART:20250405T160000
END:STANDARD
BEGIN:DAYLIGHT
TZOFFSETFROM:+1000
TZOFFSETTO:+1100
TZNAME:AEDT
DTSTART:20251004T160000
END:DAYLIGHT
END:VTIMEZONE
BEGIN:VEVENT
DTSTART;TZID=Australia/Melbourne:20240519T130000
DTEND;TZID=Australia/Melbourne:20240519T150000
DTSTAMP:20260420T125650
CREATED:20240504T005522Z
LAST-MODIFIED:20240509T100031Z
UID:4499-1716123600-1716130800@www.fdp.org.au
SUMMARY:May Park Care Day
DESCRIPTION:Join us for the May Park Care Day. (rescheduled from 26th)\, \nMeet at the floodplain on the Ivanhoe side of the creek.  See this link for more directions.
URL:https://www.fdp.org.au/event/4499/
END:VEVENT
END:VCALENDAR