BEGIN:VCALENDAR
VERSION:2.0
PRODID:-//Friends of Darebin Parklands - ECPv6.15.20//NONSGML v1.0//EN
CALSCALE:GREGORIAN
METHOD:PUBLISH
X-WR-CALNAME:Friends of Darebin Parklands
X-ORIGINAL-URL:https://www.fdp.org.au
X-WR-CALDESC:Events for Friends of Darebin Parklands
REFRESH-INTERVAL;VALUE=DURATION:PT1H
X-Robots-Tag:noindex
X-PUBLISHED-TTL:PT1H
BEGIN:VTIMEZONE
TZID:Australia/Melbourne
BEGIN:STANDARD
TZOFFSETFROM:+1100
TZOFFSETTO:+1000
TZNAME:AEST
DTSTART:20200404T160000
END:STANDARD
BEGIN:DAYLIGHT
TZOFFSETFROM:+1000
TZOFFSETTO:+1100
TZNAME:AEDT
DTSTART:20201003T160000
END:DAYLIGHT
BEGIN:STANDARD
TZOFFSETFROM:+1100
TZOFFSETTO:+1000
TZNAME:AEST
DTSTART:20210403T160000
END:STANDARD
BEGIN:DAYLIGHT
TZOFFSETFROM:+1000
TZOFFSETTO:+1100
TZNAME:AEDT
DTSTART:20211002T160000
END:DAYLIGHT
BEGIN:STANDARD
TZOFFSETFROM:+1100
TZOFFSETTO:+1000
TZNAME:AEST
DTSTART:20220402T160000
END:STANDARD
BEGIN:DAYLIGHT
TZOFFSETFROM:+1000
TZOFFSETTO:+1100
TZNAME:AEDT
DTSTART:20221001T160000
END:DAYLIGHT
BEGIN:STANDARD
TZOFFSETFROM:+1100
TZOFFSETTO:+1000
TZNAME:AEST
DTSTART:20230401T160000
END:STANDARD
BEGIN:DAYLIGHT
TZOFFSETFROM:+1000
TZOFFSETTO:+1100
TZNAME:AEDT
DTSTART:20230930T160000
END:DAYLIGHT
BEGIN:STANDARD
TZOFFSETFROM:+1100
TZOFFSETTO:+1000
TZNAME:AEST
DTSTART:20240406T160000
END:STANDARD
BEGIN:DAYLIGHT
TZOFFSETFROM:+1000
TZOFFSETTO:+1100
TZNAME:AEDT
DTSTART:20241005T160000
END:DAYLIGHT
BEGIN:STANDARD
TZOFFSETFROM:+1100
TZOFFSETTO:+1000
TZNAME:AEST
DTSTART:20250405T160000
END:STANDARD
BEGIN:DAYLIGHT
TZOFFSETFROM:+1000
TZOFFSETTO:+1100
TZNAME:AEDT
DTSTART:20251004T160000
END:DAYLIGHT
END:VTIMEZONE
BEGIN:VTIMEZONE
TZID:Australia/Melbourne
BEGIN:STANDARD
TZOFFSETFROM:+1100
TZOFFSETTO:+1000
TZNAME:AEST
DTSTART:20200404T160000
END:STANDARD
BEGIN:DAYLIGHT
TZOFFSETFROM:+1000
TZOFFSETTO:+1100
TZNAME:AEDT
DTSTART:20201003T160000
END:DAYLIGHT
BEGIN:STANDARD
TZOFFSETFROM:+1100
TZOFFSETTO:+1000
TZNAME:AEST
DTSTART:20210403T160000
END:STANDARD
BEGIN:DAYLIGHT
TZOFFSETFROM:+1000
TZOFFSETTO:+1100
TZNAME:AEDT
DTSTART:20211002T160000
END:DAYLIGHT
BEGIN:STANDARD
TZOFFSETFROM:+1100
TZOFFSETTO:+1000
TZNAME:AEST
DTSTART:20220402T160000
END:STANDARD
BEGIN:DAYLIGHT
TZOFFSETFROM:+1000
TZOFFSETTO:+1100
TZNAME:AEDT
DTSTART:20221001T160000
END:DAYLIGHT
END:VTIMEZONE
BEGIN:VEVENT
DTSTART;TZID=Australia/Melbourne:20240813T183000
DTEND;TZID=Australia/Melbourne:20240813T203000
DTSTAMP:20260422T220405
CREATED:20240722T055416Z
LAST-MODIFIED:20240722T055416Z
UID:4640-1723573800-1723581000@www.fdp.org.au
SUMMARY:Committee Meeting
DESCRIPTION:
URL:https://www.fdp.org.au/event/committee-meeting/
CATEGORIES:DPA Committee meeting
END:VEVENT
BEGIN:VEVENT
DTSTART;TZID=Australia/Melbourne:20211026T193000
DTEND;TZID=Australia/Melbourne:20211026T213000
DTSTAMP:20260422T220405
CREATED:20210502T051726Z
LAST-MODIFIED:20210630T055853Z
UID:1844-1635276600-1635283800@www.fdp.org.au
SUMMARY:our committee meeting
DESCRIPTION:
URL:https://www.fdp.org.au/event/dpa-committee-meeting-26-10/
CATEGORIES:DPA Committee meeting
END:VEVENT
BEGIN:VEVENT
DTSTART;TZID=Australia/Melbourne:20210727T193000
DTEND;TZID=Australia/Melbourne:20210727T213000
DTSTAMP:20260422T220405
CREATED:20210502T051216Z
LAST-MODIFIED:20210630T055548Z
UID:1840-1627414200-1627421400@www.fdp.org.au
SUMMARY:our committee meeting
DESCRIPTION:
URL:https://www.fdp.org.au/event/dpa-committee-meeting-27-07/
CATEGORIES:DPA Committee meeting
END:VEVENT
BEGIN:VEVENT
DTSTART;TZID=Australia/Melbourne:20210608T080000
DTEND;TZID=Australia/Melbourne:20210608T170000
DTSTAMP:20260422T220405
CREATED:20210502T050619Z
LAST-MODIFIED:20210502T050619Z
UID:1836-1623139200-1623171600@www.fdp.org.au
SUMMARY:our committee meeting
DESCRIPTION:
URL:https://www.fdp.org.au/event/dpa-committee-meeting/
CATEGORIES:DPA Committee meeting
END:VEVENT
BEGIN:VEVENT
DTSTART;VALUE=DATE:20210607
DTEND;VALUE=DATE:20210613
DTSTAMP:20260422T220405
CREATED:20210602T022952Z
LAST-MODIFIED:20210602T023456Z
UID:2422-1623024000-1623542399@www.fdp.org.au
SUMMARY:Test Event With Booking
DESCRIPTION:
URL:https://www.fdp.org.au/event/test-event-with-booking/
LOCATION:Gleeson Centre\, entrance to the Parklands at the end of Separation Street
CATEGORIES:DPA Committee meeting
END:VEVENT
END:VCALENDAR