BEGIN:VCALENDAR
VERSION:2.0
PRODID:-//Friends of Darebin Parklands - ECPv6.15.17.1//NONSGML v1.0//EN
CALSCALE:GREGORIAN
METHOD:PUBLISH
X-ORIGINAL-URL:https://www.fdp.org.au
X-WR-CALDESC:Events for Friends of Darebin Parklands
REFRESH-INTERVAL;VALUE=DURATION:PT1H
X-Robots-Tag:noindex
X-PUBLISHED-TTL:PT1H
BEGIN:VTIMEZONE
TZID:Australia/Melbourne
BEGIN:STANDARD
TZOFFSETFROM:+1100
TZOFFSETTO:+1000
TZNAME:AEST
DTSTART:20230401T160000
END:STANDARD
BEGIN:DAYLIGHT
TZOFFSETFROM:+1000
TZOFFSETTO:+1100
TZNAME:AEDT
DTSTART:20230930T160000
END:DAYLIGHT
BEGIN:STANDARD
TZOFFSETFROM:+1100
TZOFFSETTO:+1000
TZNAME:AEST
DTSTART:20240406T160000
END:STANDARD
BEGIN:DAYLIGHT
TZOFFSETFROM:+1000
TZOFFSETTO:+1100
TZNAME:AEDT
DTSTART:20241005T160000
END:DAYLIGHT
BEGIN:STANDARD
TZOFFSETFROM:+1100
TZOFFSETTO:+1000
TZNAME:AEST
DTSTART:20250405T160000
END:STANDARD
BEGIN:DAYLIGHT
TZOFFSETFROM:+1000
TZOFFSETTO:+1100
TZNAME:AEDT
DTSTART:20251004T160000
END:DAYLIGHT
END:VTIMEZONE
BEGIN:VEVENT
DTSTART;TZID=Australia/Melbourne:20241126T183000
DTEND;TZID=Australia/Melbourne:20241126T210000
DTSTAMP:20260420T030725
CREATED:20241118T053734Z
LAST-MODIFIED:20241118T053734Z
UID:4948-1732645800-1732654800@www.fdp.org.au
SUMMARY:End of Year BBQ
DESCRIPTION:Join us for our annual end of year BBQ\, held outside thew Ranger’s hut at the end 0f Separation Street. Food\, salads and soft drink provided (meat and vegetarian options available).
URL:https://www.fdp.org.au/event/end-of-year-bbq/
END:VEVENT
END:VCALENDAR